BEGIN:VCALENDAR
VERSION:2.0
PRODID:-//specialolympicsnd.org//NONSGML kigkonsult.se iCalcreator 2.30.10/
 /
CALSCALE:GREGORIAN
METHOD:PUBLISH
UID:448029fc-bd7b-406a-8e14-13b57b111244
X-WR-CALDESC:October 26-27 in Fargo -- Annual Conference & Banquet
X-WR-RELCALID:c4803705882a9bb43e5c41e6d7873bde
X-WR-TIMEZONE:America/Chicago
BEGIN:VTIMEZONE
TZID:America/Chicago
BEGIN:STANDARD
TZNAME:CST
DTSTART:20181104T020000
TZOFFSETFROM:-0500
TZOFFSETTO:-0600
RDATE:20191103T020000
RDATE:20201101T020000
END:STANDARD
BEGIN:DAYLIGHT
TZNAME:CDT
DTSTART:20190310T020000
TZOFFSETFROM:-0600
TZOFFSETTO:-0500
RDATE:20200308T020000
RDATE:20210314T020000
END:DAYLIGHT
END:VTIMEZONE
BEGIN:VEVENT
UID:c7ebb9c6-112e-4bcb-b3bc-64ed2556821c
DTSTAMP:20260423T004932Z
DESCRIPTION:October 26-27 in Fargo -- Annual Conference & Banquet
DTSTART;TZID=America/Chicago:20191026T000000
DTEND;TZID=America/Chicago:20191028T235900
LOCATION:Ramada Inn\, Fargo\, ND
SUMMARY:State Conference
END:VEVENT
END:VCALENDAR
