BEGIN:VCALENDAR
VERSION:2.0
PRODID:-//specialolympicsnd.org//NONSGML kigkonsult.se iCalcreator 2.30.10/
 /
CALSCALE:GREGORIAN
METHOD:PUBLISH
UID:42fabfea-76e0-4804-b521-e99671ef0f33
X-WR-CALDESC:
X-WR-RELCALID:d0ad619915428f2b4bd8fbbed9a69666
X-WR-TIMEZONE:America/Chicago
BEGIN:VTIMEZONE
TZID:America/Chicago
BEGIN:STANDARD
TZNAME:CST
DTSTART:20181104T020000
TZOFFSETFROM:-0500
TZOFFSETTO:-0600
RDATE:20191103T020000
RDATE:20201101T020000
END:STANDARD
BEGIN:DAYLIGHT
TZNAME:CDT
DTSTART:20190310T020000
TZOFFSETFROM:-0600
TZOFFSETTO:-0500
RDATE:20200308T020000
RDATE:20210314T020000
END:DAYLIGHT
END:VTIMEZONE
BEGIN:VEVENT
UID:35804e8d-f777-4bae-9604-10e275ea7dc0
DTSTAMP:20260423T005613Z
DESCRIPTION:
DTSTART;TZID=America/Chicago:20191015T190000
DTEND;TZID=America/Chicago:20191015T210000
LOCATION:Ann Nicole Nelson-MSU\, Minot
SUMMARY:Dancing for Specal Stars - Minot
END:VEVENT
END:VCALENDAR
