BEGIN:VCALENDAR
VERSION:2.0
PRODID:-//specialolympicsnd.org//NONSGML kigkonsult.se iCalcreator 2.30.10/
 /
CALSCALE:GREGORIAN
METHOD:PUBLISH
UID:045d1343-4976-41c2-899f-e8016be7bfb7
X-WR-CALDESC:
X-WR-RELCALID:5c604433edad52ef3aa5a3f079c32bf0
X-WR-TIMEZONE:America/Chicago
BEGIN:VTIMEZONE
TZID:America/Chicago
BEGIN:STANDARD
TZNAME:CST
DTSTART:20181104T020000
TZOFFSETFROM:-0500
TZOFFSETTO:-0600
RDATE:20191103T020000
RDATE:20201101T020000
END:STANDARD
BEGIN:DAYLIGHT
TZNAME:CDT
DTSTART:20190310T020000
TZOFFSETFROM:-0600
TZOFFSETTO:-0500
RDATE:20200308T020000
RDATE:20210314T020000
END:DAYLIGHT
END:VTIMEZONE
BEGIN:VEVENT
UID:f1a99bef-c8a0-44bd-83a4-98d7a252ade5
DTSTAMP:20260423T005341Z
DESCRIPTION:
DTSTART;TZID=America/Chicago:20190928T000000
DTEND;TZID=America/Chicago:20190928T235900
LOCATION:Fargo\, ND
SUMMARY:Truck Convoy
END:VEVENT
END:VCALENDAR
