BEGIN:VCALENDAR
VERSION:2.0
PRODID:-//specialolympicsnd.org//NONSGML kigkonsult.se iCalcreator 2.30.10/
 /
CALSCALE:GREGORIAN
METHOD:PUBLISH
UID:58c68ec3-d09e-4585-b67a-de9f8d3b3b26
X-WR-CALDESC:
X-WR-RELCALID:2278da5974f8c623b9aeb4c4edbfb220
X-WR-TIMEZONE:America/Chicago
BEGIN:VTIMEZONE
TZID:America/Chicago
BEGIN:STANDARD
TZNAME:CST
DTSTART:20181104T020000
TZOFFSETFROM:-0500
TZOFFSETTO:-0600
RDATE:20191103T020000
RDATE:20201101T020000
END:STANDARD
BEGIN:DAYLIGHT
TZNAME:CDT
DTSTART:20190310T020000
TZOFFSETFROM:-0600
TZOFFSETTO:-0500
RDATE:20200308T020000
RDATE:20210314T020000
END:DAYLIGHT
END:VTIMEZONE
BEGIN:VEVENT
UID:246aca82-2c03-425a-84b4-b7edf7b507f2
DTSTAMP:20260423T005057Z
DESCRIPTION:
DTSTART;TZID=America/Chicago:20190917T000000
DTEND;TZID=America/Chicago:20190918T235900
LOCATION:Applebee's Restaurants around ND
SUMMARY:Applebee's Tip-A-Cop
END:VEVENT
END:VCALENDAR
