BEGIN:VCALENDAR
VERSION:2.0
PRODID:-//specialolympicsnd.org//NONSGML kigkonsult.se iCalcreator 2.30.10/
 /
CALSCALE:GREGORIAN
METHOD:PUBLISH
UID:09988b61-53d7-4dcf-b6d4-deaa14acd255
X-WR-CALDESC:September 14-15\, 2019 in Grand Forks
X-WR-RELCALID:ed3103a47d148840a7396bd163dde166
X-WR-TIMEZONE:America/Chicago
BEGIN:VTIMEZONE
TZID:America/Chicago
BEGIN:STANDARD
TZNAME:CST
DTSTART:20181104T020000
TZOFFSETFROM:-0500
TZOFFSETTO:-0600
RDATE:20191103T020000
RDATE:20201101T020000
END:STANDARD
BEGIN:DAYLIGHT
TZNAME:CDT
DTSTART:20190310T020000
TZOFFSETFROM:-0600
TZOFFSETTO:-0500
RDATE:20200308T020000
RDATE:20210314T020000
END:DAYLIGHT
END:VTIMEZONE
BEGIN:VEVENT
UID:ab5e53d5-f476-4c19-91c2-296e3767948c
DTSTAMP:20260423T005426Z
DESCRIPTION:September 14-15\, 2019 in Grand Forks
DTSTART;TZID=America/Chicago:20190914T000000
DTEND;TZID=America/Chicago:20190916T235900
LOCATION:South Middle School\, Grand Forks\, ND
SUMMARY:State Soccer/Bocce Tournament
END:VEVENT
END:VCALENDAR
