BEGIN:VCALENDAR
VERSION:2.0
PRODID:-//specialolympicsnd.org//NONSGML kigkonsult.se iCalcreator 2.30.10/
 /
CALSCALE:GREGORIAN
METHOD:PUBLISH
UID:96e3c027-40f1-4f14-ad23-f538e2e11d1c
X-WR-CALDESC:
X-WR-RELCALID:674aceaba26074bf6501e578764c44df
X-WR-TIMEZONE:America/Chicago
BEGIN:VTIMEZONE
TZID:America/Chicago
BEGIN:STANDARD
TZNAME:CST
DTSTART:20181104T020000
TZOFFSETFROM:-0500
TZOFFSETTO:-0600
RDATE:20191103T020000
RDATE:20201101T020000
END:STANDARD
BEGIN:DAYLIGHT
TZNAME:CDT
DTSTART:20190310T020000
TZOFFSETFROM:-0600
TZOFFSETTO:-0500
RDATE:20200308T020000
END:DAYLIGHT
END:VTIMEZONE
BEGIN:VEVENT
UID:8054f82d-9439-4806-b431-ff7ff74acaf6
DTSTAMP:20260423T005335Z
DESCRIPTION:
DTSTART;TZID=America/Chicago:20190912T180000
DTEND;TZID=America/Chicago:20190912T193000
LOCATION:Red River High School - Choir Room\, Grand Forks\, ND
SUMMARY:Soccer & Bocce - Volunteer Training
END:VEVENT
END:VCALENDAR
