BEGIN:VCALENDAR
VERSION:2.0
PRODID:-//specialolympicsnd.org//NONSGML kigkonsult.se iCalcreator 2.30.10/
 /
CALSCALE:GREGORIAN
METHOD:PUBLISH
UID:2c7dddbb-7ff6-4275-a4b3-d756d38eda57
X-WR-CALDESC:
X-WR-RELCALID:cc162c0ac93ca5726597b1ed1ca238f7
X-WR-TIMEZONE:America/Chicago
BEGIN:VTIMEZONE
TZID:America/Chicago
BEGIN:STANDARD
TZNAME:CST
DTSTART:20181104T020000
TZOFFSETFROM:-0500
TZOFFSETTO:-0600
RDATE:20191103T020000
RDATE:20201101T020000
END:STANDARD
BEGIN:DAYLIGHT
TZNAME:CDT
DTSTART:20190310T020000
TZOFFSETFROM:-0600
TZOFFSETTO:-0500
RDATE:20200308T020000
END:DAYLIGHT
END:VTIMEZONE
BEGIN:VEVENT
UID:41b12298-b342-4c63-a51b-27d75408ec0e
DTSTAMP:20260423T005720Z
DESCRIPTION:
DTSTART;TZID=America/Chicago:20190825T000000
DTEND;TZID=America/Chicago:20190825T235900
LOCATION:West Fargo\, ND
SUMMARY:District III Soccer/Bocce Tournament
END:VEVENT
END:VCALENDAR
