BEGIN:VCALENDAR
VERSION:2.0
PRODID:-//specialolympicsnd.org//NONSGML kigkonsult.se iCalcreator 2.30.10/
 /
CALSCALE:GREGORIAN
METHOD:PUBLISH
UID:619cc83e-02ad-4c0e-a6b2-ceab8ac1b695
X-WR-CALDESC:
X-WR-RELCALID:7f226e1925ce5aae33f02accb8a8bb58
X-WR-TIMEZONE:America/Chicago
BEGIN:VTIMEZONE
TZID:America/Chicago
BEGIN:STANDARD
TZNAME:CST
DTSTART:20181104T020000
TZOFFSETFROM:-0500
TZOFFSETTO:-0600
RDATE:20191103T020000
RDATE:20201101T020000
END:STANDARD
BEGIN:DAYLIGHT
TZNAME:CDT
DTSTART:20190310T020000
TZOFFSETFROM:-0600
TZOFFSETTO:-0500
RDATE:20200308T020000
END:DAYLIGHT
END:VTIMEZONE
BEGIN:VEVENT
UID:be7448c8-6b90-423e-bed9-c3711debaa9c
DTSTAMP:20260423T005543Z
DESCRIPTION:
DTSTART;TZID=America/Chicago:20190818T000000
DTEND;TZID=America/Chicago:20190818T235900
LOCATION:Cottonwood Field\, Bismarck\, ND
SUMMARY:District IV Soccer/Bocce Tournament
END:VEVENT
END:VCALENDAR
