BEGIN:VCALENDAR
VERSION:2.0
PRODID:-//specialolympicsnd.org//NONSGML kigkonsult.se iCalcreator 2.30.10/
 /
CALSCALE:GREGORIAN
METHOD:PUBLISH
UID:5cde97ac-7e31-487a-8f4c-f86be0b37371
X-WR-CALDESC:$150/person or $600/4-person team.  \n11:00 am registration\n1
 2:30 pm shotgun start\nsteak dinner immediately following Golf. \n\n<a hre
 f='https://www.sondbismarck.org/wp-content/uploads/2019/06/Golf-Registrati
 on-Brochure-2.0-2019.pdf' target='_blank' rel='noreferrer noopener'>Regist
 ration Form</a>\n\n<a href='https://www.sondbismarck.org/wp-content/upload
 s/2019/06/SOND-Bismarck-Golf-Tourn-Sponsorship-Form-2.0-2019.pdf' target='
 _blank' rel='noreferrer noopener'>Sponsorships</a> available for golf tour
 nament – Get your name or your business name out there!
X-WR-RELCALID:a26e64702abb2dc9f747edade0bed0b0
X-WR-TIMEZONE:America/Chicago
BEGIN:VTIMEZONE
TZID:America/Chicago
BEGIN:STANDARD
TZNAME:CST
DTSTART:20181104T020000
TZOFFSETFROM:-0500
TZOFFSETTO:-0600
RDATE:20191103T020000
RDATE:20201101T020000
END:STANDARD
BEGIN:DAYLIGHT
TZNAME:CDT
DTSTART:20190310T020000
TZOFFSETFROM:-0600
TZOFFSETTO:-0500
RDATE:20200308T020000
END:DAYLIGHT
END:VTIMEZONE
BEGIN:VEVENT
UID:f358edfe-533d-4b4b-b2fc-7ff723c8f87a
DTSTAMP:20260423T005456Z
DESCRIPTION:$150/person or $600/4-person team.  \n11:00 am registration\n12
 :30 pm shotgun start\nsteak dinner immediately following Golf. \n\n<a href
 ='https://www.sondbismarck.org/wp-content/uploads/2019/06/Golf-Registratio
 n-Brochure-2.0-2019.pdf' target='_blank' rel='noreferrer noopener'>Registr
 ation Form</a>\n\n<a href='https://www.sondbismarck.org/wp-content/uploads
 /2019/06/SOND-Bismarck-Golf-Tourn-Sponsorship-Form-2.0-2019.pdf' target='_
 blank' rel='noreferrer noopener'>Sponsorships</a> available for golf tourn
 ament – Get your name or your business name out there!
DTSTART;TZID=America/Chicago:20190805T000000
DTEND;TZID=America/Chicago:20190805T235900
LOCATION:Apple Creek Country Club
SUMMARY:Bismarck Golf Tournament Fundraiser
END:VEVENT
END:VCALENDAR
