BEGIN:VCALENDAR
VERSION:2.0
PRODID:-//specialolympicsnd.org//NONSGML kigkonsult.se iCalcreator 2.30.10/
 /
CALSCALE:GREGORIAN
METHOD:PUBLISH
UID:15b2f9b8-d5d7-4768-8bb6-bfec8df8963c
X-WR-CALDESC:
X-WR-RELCALID:f6d73ce8c063b82296bb623851abee65
X-WR-TIMEZONE:America/Chicago
BEGIN:VTIMEZONE
TZID:America/Chicago
BEGIN:STANDARD
TZNAME:CST
DTSTART:20181104T020000
TZOFFSETFROM:-0500
TZOFFSETTO:-0600
RDATE:20191103T020000
RDATE:20201101T020000
END:STANDARD
BEGIN:DAYLIGHT
TZNAME:CDT
DTSTART:20190310T020000
TZOFFSETFROM:-0600
TZOFFSETTO:-0500
RDATE:20200308T020000
END:DAYLIGHT
END:VTIMEZONE
BEGIN:VEVENT
UID:836c48b6-f258-4096-8b15-94c31bc8ec12
DTSTAMP:20260420T232135Z
DESCRIPTION:
DTSTART;TZID=America/Chicago:20190727T000000
DTEND;TZID=America/Chicago:20190727T235900
LOCATION:
SUMMARY:Larks Game for Special Olympics
END:VEVENT
END:VCALENDAR
