BEGIN:VCALENDAR
VERSION:2.0
PRODID:-//specialolympicsnd.org//NONSGML kigkonsult.se iCalcreator 2.30.10/
 /
CALSCALE:GREGORIAN
METHOD:PUBLISH
UID:082037c2-f94d-43d9-92e7-a23bfc36baf8
X-WR-CALDESC:
X-WR-RELCALID:c727010ad30f32ba9b0275c6a1cfab25
X-WR-TIMEZONE:America/Chicago
BEGIN:VTIMEZONE
TZID:America/Chicago
BEGIN:STANDARD
TZNAME:CST
DTSTART:20181104T020000
TZOFFSETFROM:-0500
TZOFFSETTO:-0600
RDATE:20191103T020000
RDATE:20201101T020000
END:STANDARD
BEGIN:DAYLIGHT
TZNAME:CDT
DTSTART:20190310T020000
TZOFFSETFROM:-0600
TZOFFSETTO:-0500
RDATE:20200308T020000
END:DAYLIGHT
END:VTIMEZONE
BEGIN:VEVENT
UID:e4dedc2a-48ee-4043-a77d-70b6a3f46123
DTSTAMP:20260423T005136Z
DESCRIPTION:
DTSTART;TZID=America/Chicago:20190715T000000
DTEND;TZID=America/Chicago:20190715T235900
LOCATION:Minot Country Club\, Minot\, ND
SUMMARY:Golf Classic - Minot
END:VEVENT
END:VCALENDAR
