BEGIN:VCALENDAR
VERSION:2.0
PRODID:-//specialolympicsnd.org//NONSGML kigkonsult.se iCalcreator 2.30.10/
 /
CALSCALE:GREGORIAN
METHOD:PUBLISH
UID:3a73fc74-70e9-413e-8970-33fa2ddb0354
X-WR-CALDESC:
X-WR-RELCALID:7e9cb36567eaa537d685eae6fa895d6a
X-WR-TIMEZONE:America/Chicago
BEGIN:VTIMEZONE
TZID:America/Chicago
BEGIN:STANDARD
TZNAME:CST
DTSTART:20181104T020000
TZOFFSETFROM:-0500
TZOFFSETTO:-0600
RDATE:20191103T020000
RDATE:20201101T020000
END:STANDARD
BEGIN:DAYLIGHT
TZNAME:CDT
DTSTART:20190310T020000
TZOFFSETFROM:-0600
TZOFFSETTO:-0500
RDATE:20200308T020000
END:DAYLIGHT
END:VTIMEZONE
BEGIN:VEVENT
UID:2116c35c-2634-4bc7-af01-a200667b1d2c
DTSTAMP:20260423T005206Z
DESCRIPTION:
DTSTART;TZID=America/Chicago:20190625T000000
DTEND;TZID=America/Chicago:20190625T235900
LOCATION:Oxbow Country Club\, Oxbow\, ND
SUMMARY:Golf Classic - Fargo
END:VEVENT
END:VCALENDAR
