BEGIN:VCALENDAR
VERSION:2.0
PRODID:-//specialolympicsnd.org//NONSGML kigkonsult.se iCalcreator 2.30.10/
 /
CALSCALE:GREGORIAN
METHOD:PUBLISH
UID:2418b591-4c10-49f8-9392-f459ec71ea04
X-WR-CALDESC:
X-WR-RELCALID:81d9980fee881e5c781d35bf7520c4d8
X-WR-TIMEZONE:America/Chicago
BEGIN:VTIMEZONE
TZID:America/Chicago
BEGIN:STANDARD
TZNAME:CST
DTSTART:20181104T020000
TZOFFSETFROM:-0500
TZOFFSETTO:-0600
RDATE:20191103T020000
RDATE:20201101T020000
END:STANDARD
BEGIN:DAYLIGHT
TZNAME:CDT
DTSTART:20190310T020000
TZOFFSETFROM:-0600
TZOFFSETTO:-0500
RDATE:20200308T020000
END:DAYLIGHT
END:VTIMEZONE
BEGIN:VEVENT
UID:7d386776-ba82-4462-b89b-4b3bc7ab5ced
DTSTAMP:20260423T005223Z
DESCRIPTION:
DTSTART;TZID=America/Chicago:20190617T000000
DTEND;TZID=America/Chicago:20190617T235900
LOCATION:Grand Forks Country Club\, Grand Forks\, ND
SUMMARY:Golf Classic - Grand Forks
END:VEVENT
END:VCALENDAR
