BEGIN:VCALENDAR
VERSION:2.0
PRODID:-//specialolympicsnd.org//NONSGML kigkonsult.se iCalcreator 2.30.10/
 /
CALSCALE:GREGORIAN
METHOD:PUBLISH
UID:70aeb596-6221-41dc-917a-a20178f822d1
X-WR-CALDESC:Schedule of Events:\n\nTHURSDAY\, JUNE 6TH - (FARGO CIVIC CENT
 ER\, BROADWAY)\nFlag Football Competition (Unified Champion Schools)\nLaw 
 Enforcement Torch Run for Special Olympics\nCommunity Celebration\nOpening
  Ceremony & Parade of Athletes\n\nFRIDAY\, JUNE 7TH - (FARGO DAVIES\, SHAN
 LEY HIGH SCHOOL)\nSwimming Competition\nBocce Competition\nPowerlifting Co
 mpetition\nVolleyball Competition\nOlympic Town Activities\nHealthy Athlet
 e Screenings\nAwards Ceremonies\n\nSATURDAY\, JUNE 8TH - (FARGO SOUTH HIGH
  SCHOOL)\nAthletics (Track & Field Competition)\nOlympic Town Activities\n
 Awards Ceremonies\nClosing Ceremony
X-WR-RELCALID:eadbd1ca7476cb0edf670f319418c0b8
X-WR-TIMEZONE:America/Chicago
BEGIN:VTIMEZONE
TZID:America/Chicago
BEGIN:STANDARD
TZNAME:CST
DTSTART:20181104T020000
TZOFFSETFROM:-0500
TZOFFSETTO:-0600
RDATE:20191103T020000
RDATE:20201101T020000
END:STANDARD
BEGIN:DAYLIGHT
TZNAME:CDT
DTSTART:20190310T020000
TZOFFSETFROM:-0600
TZOFFSETTO:-0500
RDATE:20200308T020000
END:DAYLIGHT
END:VTIMEZONE
BEGIN:VEVENT
UID:ff688523-81d6-4934-a4f6-b660f9b748f4
DTSTAMP:20260423T005057Z
DESCRIPTION:Schedule of Events:\n\nTHURSDAY\, JUNE 6TH - (FARGO CIVIC CENTE
 R\, BROADWAY)\nFlag Football Competition (Unified Champion Schools)\nLaw E
 nforcement Torch Run for Special Olympics\nCommunity Celebration\nOpening 
 Ceremony & Parade of Athletes\n\nFRIDAY\, JUNE 7TH - (FARGO DAVIES\, SHANL
 EY HIGH SCHOOL)\nSwimming Competition\nBocce Competition\nPowerlifting Com
 petition\nVolleyball Competition\nOlympic Town Activities\nHealthy Athlete
  Screenings\nAwards Ceremonies\n\nSATURDAY\, JUNE 8TH - (FARGO SOUTH HIGH 
 SCHOOL)\nAthletics (Track & Field Competition)\nOlympic Town Activities\nA
 wards Ceremonies\nClosing Ceremony
DTSTART;TZID=America/Chicago:20190606T160000
DTEND;TZID=America/Chicago:20190608T150000
LOCATION:Fargo\, ND
SUMMARY:State Summer Games
END:VEVENT
END:VCALENDAR
