BEGIN:VCALENDAR
VERSION:2.0
PRODID:-//specialolympicsnd.org//NONSGML kigkonsult.se iCalcreator 2.30.10/
 /
CALSCALE:GREGORIAN
METHOD:PUBLISH
UID:5cbc3262-c50b-4e8a-b0c2-1b3ac93e878a
X-WR-CALDESC:
X-WR-RELCALID:8313531af3602195f75210bb72ff569d
X-WR-TIMEZONE:America/Chicago
BEGIN:VTIMEZONE
TZID:America/Chicago
BEGIN:STANDARD
TZNAME:CST
DTSTART:20181104T020000
TZOFFSETFROM:-0500
TZOFFSETTO:-0600
RDATE:20191103T020000
RDATE:20201101T020000
END:STANDARD
BEGIN:DAYLIGHT
TZNAME:CDT
DTSTART:20190310T020000
TZOFFSETFROM:-0600
TZOFFSETTO:-0500
RDATE:20200308T020000
END:DAYLIGHT
END:VTIMEZONE
BEGIN:VEVENT
UID:e74521d8-10d5-4437-b632-1db2f3d274ba
DTSTAMP:20260423T005650Z
DESCRIPTION:
DTSTART;TZID=America/Chicago:20190531T000000
DTEND;TZID=America/Chicago:20190531T235900
LOCATION:Valley City\, ND
SUMMARY:Valley City Golf Tournament
END:VEVENT
END:VCALENDAR
