BEGIN:VCALENDAR
VERSION:2.0
PRODID:-//specialolympicsnd.org//NONSGML kigkonsult.se iCalcreator 2.30.10/
 /
CALSCALE:GREGORIAN
METHOD:PUBLISH
UID:b68efe44-95ad-4dc1-a29b-10e2fdd40f1d
X-WR-CALDESC:
X-WR-RELCALID:6072c1e1a64f36051d2d8d5ffcd471d9
X-WR-TIMEZONE:America/Chicago
BEGIN:VTIMEZONE
TZID:America/Chicago
BEGIN:STANDARD
TZNAME:CST
DTSTART:20181104T020000
TZOFFSETFROM:-0500
TZOFFSETTO:-0600
RDATE:20191103T020000
END:STANDARD
BEGIN:DAYLIGHT
TZNAME:CDT
DTSTART:20190310T020000
TZOFFSETFROM:-0600
TZOFFSETTO:-0500
RDATE:20200308T020000
END:DAYLIGHT
END:VTIMEZONE
BEGIN:VEVENT
UID:e1fd4e7c-fd12-4258-9b3a-bbe0b5e14137
DTSTAMP:20260423T004958Z
DESCRIPTION:
DTSTART;TZID=America/Chicago:20190401T000000
DTEND;TZID=America/Chicago:20190401T235900
LOCATION:North Dakota State Capitol\, Bismarck\, ND
SUMMARY:Capitol Classic
END:VEVENT
END:VCALENDAR
