BEGIN:VCALENDAR
VERSION:2.0
PRODID:-//specialolympicsnd.org//NONSGML kigkonsult.se iCalcreator 2.30.10/
 /
CALSCALE:GREGORIAN
METHOD:PUBLISH
UID:a875a0c9-893f-4ccf-84d8-ccbb922c322e
X-WR-CALDESC:
X-WR-RELCALID:6c79460318a283930b8adc3c7fe604ab
X-WR-TIMEZONE:America/Chicago
BEGIN:VTIMEZONE
TZID:America/Chicago
BEGIN:STANDARD
TZNAME:CST
DTSTART:20181104T020000
TZOFFSETFROM:-0500
TZOFFSETTO:-0600
RDATE:20191103T020000
END:STANDARD
BEGIN:DAYLIGHT
TZNAME:CDT
DTSTART:20190310T020000
TZOFFSETFROM:-0600
TZOFFSETTO:-0500
RDATE:20200308T020000
END:DAYLIGHT
END:VTIMEZONE
BEGIN:VEVENT
UID:c4bb7365-2250-46e1-9e8b-24fd43778bc3
DTSTAMP:20260423T005223Z
DESCRIPTION:
DTSTART;TZID=America/Chicago:20190323T000000
DTEND;TZID=America/Chicago:20190323T235900
LOCATION:Prairie Hills Mall Parking Lot\, Dickinson\, ND
SUMMARY:Polar Plunge - Dickinson
END:VEVENT
END:VCALENDAR
