BEGIN:VCALENDAR
VERSION:2.0
PRODID:-//specialolympicsnd.org//NONSGML kigkonsult.se iCalcreator 2.30.10/
 /
CALSCALE:GREGORIAN
METHOD:PUBLISH
UID:c9ef2115-b1c4-488b-b411-8375c72a1042
X-WR-CALDESC:
X-WR-RELCALID:24797ce6de38dea63d7806177e34d838
X-WR-TIMEZONE:America/Chicago
BEGIN:VTIMEZONE
TZID:America/Chicago
BEGIN:STANDARD
TZNAME:CST
DTSTART:20181104T020000
TZOFFSETFROM:-0500
TZOFFSETTO:-0600
RDATE:20191103T020000
END:STANDARD
BEGIN:DAYLIGHT
TZNAME:CDT
DTSTART:20190310T020000
TZOFFSETFROM:-0600
TZOFFSETTO:-0500
RDATE:20200308T020000
END:DAYLIGHT
END:VTIMEZONE
BEGIN:VEVENT
UID:da723e6e-9cee-46a0-b1d6-4bf65bb38bc7
DTSTAMP:20260423T005040Z
DESCRIPTION:
DTSTART;TZID=America/Chicago:20190323T000000
DTEND;TZID=America/Chicago:20190323T235900
LOCATION:Hope Lutheran Church - North\, Fargo\, ND
SUMMARY:Pancake Breakfast
END:VEVENT
END:VCALENDAR
