BEGIN:VCALENDAR
VERSION:2.0
PRODID:-//specialolympicsnd.org//NONSGML kigkonsult.se iCalcreator 2.30.10/
 /
CALSCALE:GREGORIAN
METHOD:PUBLISH
UID:4284c476-8e07-4cfc-8f45-d96450459dad
X-WR-CALDESC:The social will run after all of the Sunday Masses until about
  1:00 pm. We are accepting pie donations the week before the event until M
 arch 17.
X-WR-RELCALID:bf3ac7794a5bfa94c195a45bff8f9d51
X-WR-TIMEZONE:America/Chicago
BEGIN:VTIMEZONE
TZID:America/Chicago
BEGIN:STANDARD
TZNAME:CST
DTSTART:20181104T020000
TZOFFSETFROM:-0500
TZOFFSETTO:-0600
RDATE:20191103T020000
END:STANDARD
BEGIN:DAYLIGHT
TZNAME:CDT
DTSTART:20190310T020000
TZOFFSETFROM:-0600
TZOFFSETTO:-0500
RDATE:20200308T020000
END:DAYLIGHT
END:VTIMEZONE
BEGIN:VEVENT
UID:7cf85eef-f45c-48e7-b95c-f5191895b422
DTSTAMP:20260423T005341Z
DESCRIPTION:The social will run after all of the Sunday Masses until about 
 1:00 pm. We are accepting pie donations the week before the event until Ma
 rch 17.
DTSTART;TZID=America/Chicago:20190317T090000
DTEND;TZID=America/Chicago:20190317T130000
LOCATION:Holy Family Catholic Church\, Grand Forks\, ND
SUMMARY:Pie and Ice Cream Social
END:VEVENT
END:VCALENDAR
