BEGIN:VCALENDAR
VERSION:2.0
PRODID:-//specialolympicsnd.org//NONSGML kigkonsult.se iCalcreator 2.30.10/
 /
CALSCALE:GREGORIAN
METHOD:PUBLISH
UID:ccb26aab-213c-4ad3-9d07-6c395764eda7
X-WR-CALDESC:
X-WR-RELCALID:69b6c2e13470bcfd9afef40dd1129f59
X-WR-TIMEZONE:America/Chicago
BEGIN:VTIMEZONE
TZID:America/Chicago
BEGIN:STANDARD
TZNAME:CST
DTSTART:20181104T020000
TZOFFSETFROM:-0500
TZOFFSETTO:-0600
RDATE:20191103T020000
END:STANDARD
BEGIN:DAYLIGHT
TZNAME:CDT
DTSTART:20180311T020000
TZOFFSETFROM:-0600
TZOFFSETTO:-0500
RDATE:20190310T020000
RDATE:20200308T020000
END:DAYLIGHT
END:VTIMEZONE
BEGIN:VEVENT
UID:feb5fa49-04f7-404c-9fd0-51e9ef74a249
DTSTAMP:20260423T005613Z
DESCRIPTION:
DTSTART;TZID=America/Chicago:20190301T000000
DTEND;TZID=America/Chicago:20190302T235900
LOCATION:MSU Dome\, Minot\, ND
SUMMARY:State Basketball Tournament
END:VEVENT
END:VCALENDAR
