BEGIN:VCALENDAR
VERSION:2.0
PRODID:-//specialolympicsnd.org//NONSGML kigkonsult.se iCalcreator 2.30.10/
 /
CALSCALE:GREGORIAN
METHOD:PUBLISH
UID:fd5a3c0a-4850-4d47-90f4-4dfdb2daf7af
X-WR-CALDESC:Gather a team of 8 of your smartest friends\, colleagues\, and
 /or family members and join us for our 4th Annual Trivia Night & Silent Au
 ction fundraiser in support of Special Olympics North Dakota - Cass County
 .\n\n$25/per person or $200/per team.\n6pm-7pm social hour\; 7pm trivia st
 arts.\nAppetizers provided\; Alcohol available for purchase.\n21+ event.\n
 Prize for the top team!
X-WR-RELCALID:1e4b80251fd2e093a22a06046059d046
X-WR-TIMEZONE:America/Chicago
BEGIN:VTIMEZONE
TZID:America/Chicago
BEGIN:STANDARD
TZNAME:CST
DTSTART:20181104T020000
TZOFFSETFROM:-0500
TZOFFSETTO:-0600
RDATE:20191103T020000
END:STANDARD
BEGIN:DAYLIGHT
TZNAME:CDT
DTSTART:20180311T020000
TZOFFSETFROM:-0600
TZOFFSETTO:-0500
RDATE:20190310T020000
RDATE:20200308T020000
END:DAYLIGHT
END:VTIMEZONE
BEGIN:VEVENT
UID:c6b1da12-c537-4b04-964b-9c486dbb44db
DTSTAMP:20260423T004959Z
DESCRIPTION:Gather a team of 8 of your smartest friends\, colleagues\, and/
 or family members and join us for our 4th Annual Trivia Night & Silent Auc
 tion fundraiser in support of Special Olympics North Dakota - Cass County.
 \n\n$25/per person or $200/per team.\n6pm-7pm social hour\; 7pm trivia sta
 rts.\nAppetizers provided\; Alcohol available for purchase.\n21+ event.\nP
 rize for the top team!
DTSTART;TZID=America/Chicago:20190223T180000
DTEND;TZID=America/Chicago:20190224T220000
LOCATION:Delta Hotels\, Fargo\, ND
SUMMARY:Trivia Night
END:VEVENT
END:VCALENDAR
