BEGIN:VCALENDAR
VERSION:2.0
PRODID:-//specialolympicsnd.org//NONSGML kigkonsult.se iCalcreator 2.30.10/
 /
CALSCALE:GREGORIAN
METHOD:PUBLISH
UID:f499407e-6e9b-4cca-9909-5152bc128a5b
X-WR-CALDESC:
X-WR-RELCALID:f8fb2895f361c9451d30d9a6ccfdd0e0
X-WR-TIMEZONE:America/Chicago
BEGIN:VTIMEZONE
TZID:America/Chicago
BEGIN:STANDARD
TZNAME:CST
DTSTART:20181104T020000
TZOFFSETFROM:-0500
TZOFFSETTO:-0600
RDATE:20191103T020000
END:STANDARD
BEGIN:DAYLIGHT
TZNAME:CDT
DTSTART:20180311T020000
TZOFFSETFROM:-0600
TZOFFSETTO:-0500
RDATE:20190310T020000
RDATE:20200308T020000
END:DAYLIGHT
END:VTIMEZONE
BEGIN:VEVENT
UID:80380b6c-ed77-4714-99b0-ec255dfbcfab
DTSTAMP:20260423T005456Z
DESCRIPTION:
DTSTART;TZID=America/Chicago:20190223T000000
DTEND;TZID=America/Chicago:20190223T235900
LOCATION:Choice Financial\, Grand Forks\, ND
SUMMARY:Polar Plunge - Grand Forks
END:VEVENT
END:VCALENDAR
