BEGIN:VCALENDAR
VERSION:2.0
PRODID:-//specialolympicsnd.org//NONSGML kigkonsult.se iCalcreator 2.30.10/
 /
CALSCALE:GREGORIAN
METHOD:PUBLISH
UID:8c7b22b3-726d-4da6-b36d-12aa26d7f7dc
X-WR-CALDESC:
X-WR-RELCALID:9b27fe1cc06addda42a535f767b88058
X-WR-TIMEZONE:America/Chicago
BEGIN:VTIMEZONE
TZID:America/Chicago
BEGIN:STANDARD
TZNAME:CST
DTSTART:20181104T020000
TZOFFSETFROM:-0500
TZOFFSETTO:-0600
RDATE:20191103T020000
END:STANDARD
BEGIN:DAYLIGHT
TZNAME:CDT
DTSTART:20180311T020000
TZOFFSETFROM:-0600
TZOFFSETTO:-0500
RDATE:20190310T020000
RDATE:20200308T020000
END:DAYLIGHT
END:VTIMEZONE
BEGIN:VEVENT
UID:467a4440-8933-4e0a-bdc4-f8a54682ef3e
DTSTAMP:20260423T005206Z
DESCRIPTION:
DTSTART;TZID=America/Chicago:20190217T000000
DTEND;TZID=America/Chicago:20190217T235900
LOCATION:Metcalf Farm\, Valley City\, ND
SUMMARY:Snowshoe-a-thon
END:VEVENT
END:VCALENDAR
