BEGIN:VCALENDAR
VERSION:2.0
PRODID:-//specialolympicsnd.org//NONSGML kigkonsult.se iCalcreator 2.30.10/
 /
CALSCALE:GREGORIAN
METHOD:PUBLISH
UID:bcd88a35-e97a-4e53-8990-be864fb4549e
X-WR-CALDESC:
X-WR-RELCALID:9bb75bb54d3f3a8351b4996a6888b44c
X-WR-TIMEZONE:America/Chicago
BEGIN:VTIMEZONE
TZID:America/Chicago
BEGIN:STANDARD
TZNAME:CST
DTSTART:20181104T020000
TZOFFSETFROM:-0500
TZOFFSETTO:-0600
RDATE:20191103T020000
END:STANDARD
BEGIN:DAYLIGHT
TZNAME:CDT
DTSTART:20180311T020000
TZOFFSETFROM:-0600
TZOFFSETTO:-0500
RDATE:20190310T020000
RDATE:20200308T020000
END:DAYLIGHT
END:VTIMEZONE
BEGIN:VEVENT
UID:83609b45-6762-48b4-90da-280dcfd6a175
DTSTAMP:20260423T005330Z
DESCRIPTION:
DTSTART;TZID=America/Chicago:20190216T000000
DTEND;TZID=America/Chicago:20190216T235900
LOCATION:Bismarck\, ND
SUMMARY:Polar Plunge - Bismarck
END:VEVENT
END:VCALENDAR
