BEGIN:VCALENDAR
VERSION:2.0
PRODID:-//specialolympicsnd.org//NONSGML kigkonsult.se iCalcreator 2.30.10/
 /
CALSCALE:GREGORIAN
METHOD:PUBLISH
UID:dde2872b-d63b-495a-83ed-b1e2acac2bfb
X-WR-CALDESC:
X-WR-RELCALID:a2f6d36a11ec13de040cdbe6680e9626
X-WR-TIMEZONE:America/Chicago
BEGIN:VTIMEZONE
TZID:America/Chicago
BEGIN:STANDARD
TZNAME:CST
DTSTART:20181104T020000
TZOFFSETFROM:-0500
TZOFFSETTO:-0600
RDATE:20191103T020000
END:STANDARD
BEGIN:DAYLIGHT
TZNAME:CDT
DTSTART:20180311T020000
TZOFFSETFROM:-0600
TZOFFSETTO:-0500
RDATE:20190310T020000
RDATE:20200308T020000
END:DAYLIGHT
END:VTIMEZONE
BEGIN:VEVENT
UID:4da292c7-f88a-470e-91a6-70e97f3e5cdf
DTSTAMP:20260423T005214Z
DESCRIPTION:
DTSTART;TZID=America/Chicago:20190214T000000
DTEND;TZID=America/Chicago:20190214T235900
LOCATION:Online
SUMMARY:Giving Hearts Day
END:VEVENT
END:VCALENDAR
