BEGIN:VCALENDAR
VERSION:2.0
PRODID:-//specialolympicsnd.org//NONSGML kigkonsult.se iCalcreator 2.30.10/
 /
CALSCALE:GREGORIAN
METHOD:PUBLISH
UID:1e3e399b-e863-486a-9df1-7be9e0f2d29a
X-WR-CALDESC:
X-WR-RELCALID:5da04fa967c72080f4831be4eb66da61
X-WR-TIMEZONE:America/Chicago
BEGIN:VTIMEZONE
TZID:America/Chicago
BEGIN:STANDARD
TZNAME:CST
DTSTART:20181104T020000
TZOFFSETFROM:-0500
TZOFFSETTO:-0600
RDATE:20191103T020000
END:STANDARD
BEGIN:DAYLIGHT
TZNAME:CDT
DTSTART:20180311T020000
TZOFFSETFROM:-0600
TZOFFSETTO:-0500
RDATE:20190310T020000
RDATE:20200308T020000
END:DAYLIGHT
END:VTIMEZONE
BEGIN:VEVENT
UID:f8004928-8723-4a95-b4e6-ef1192d0fdab
DTSTAMP:20260423T005528Z
DESCRIPTION:
DTSTART;TZID=America/Chicago:20190209T000000
DTEND;TZID=America/Chicago:20190209T235900
LOCATION:Bishop Ryan High School\, Minot\, ND
SUMMARY:District I Basketball Tournament
END:VEVENT
END:VCALENDAR
