BEGIN:VCALENDAR
VERSION:2.0
PRODID:-//specialolympicsnd.org//NONSGML kigkonsult.se iCalcreator 2.30.10/
 /
CALSCALE:GREGORIAN
METHOD:PUBLISH
UID:861811d8-4894-4b55-b711-22fb2806ffea
X-WR-CALDESC:
X-WR-RELCALID:39f3ecf218bfd3f8cd0536424cdb24a5
X-WR-TIMEZONE:America/Chicago
BEGIN:VTIMEZONE
TZID:America/Chicago
BEGIN:STANDARD
TZNAME:CST
DTSTART:20181104T020000
TZOFFSETFROM:-0500
TZOFFSETTO:-0600
RDATE:20191103T020000
END:STANDARD
BEGIN:DAYLIGHT
TZNAME:CDT
DTSTART:20180311T020000
TZOFFSETFROM:-0600
TZOFFSETTO:-0500
RDATE:20190310T020000
RDATE:20200308T020000
END:DAYLIGHT
END:VTIMEZONE
BEGIN:VEVENT
UID:6a996495-a7f4-4d0e-b706-5e5cf857926f
DTSTAMP:20260423T005742Z
DESCRIPTION:
DTSTART;TZID=America/Chicago:20190202T000000
DTEND;TZID=America/Chicago:20190202T235900
LOCATION:East Grand Forks Middle School\, East Grand Forks\, MN
SUMMARY:District II Basketball Tournament
END:VEVENT
END:VCALENDAR
