BEGIN:VCALENDAR
VERSION:2.0
PRODID:-//specialolympicsnd.org//NONSGML kigkonsult.se iCalcreator 2.30.10/
 /
CALSCALE:GREGORIAN
METHOD:PUBLISH
UID:0cc91113-8354-45e5-b1c0-d2939f4a45c3
X-WR-CALDESC:
X-WR-RELCALID:88add50b6f7503f09a9cd15f9385f56a
X-WR-TIMEZONE:America/Chicago
BEGIN:VTIMEZONE
TZID:America/Chicago
BEGIN:STANDARD
TZNAME:CST
DTSTART:20181104T020000
TZOFFSETFROM:-0500
TZOFFSETTO:-0600
RDATE:20191103T020000
END:STANDARD
BEGIN:DAYLIGHT
TZNAME:CDT
DTSTART:20180311T020000
TZOFFSETFROM:-0600
TZOFFSETTO:-0500
RDATE:20190310T020000
RDATE:20200308T020000
END:DAYLIGHT
END:VTIMEZONE
BEGIN:VEVENT
UID:aa0d978b-7da6-402e-b980-ed793471eae8
DTSTAMP:20260423T005040Z
DESCRIPTION:
DTSTART;TZID=America/Chicago:20190125T000000
DTEND;TZID=America/Chicago:20190126T235900
LOCATION:
SUMMARY:State Winter Games
END:VEVENT
END:VCALENDAR
