BEGIN:VCALENDAR
VERSION:2.0
PRODID:-//specialolympicsnd.org//NONSGML kigkonsult.se iCalcreator 2.30.10/
 /
CALSCALE:GREGORIAN
METHOD:PUBLISH
UID:439de68c-4b2f-439a-bfbf-e7e216a5b33a
X-WR-CALDESC:
X-WR-RELCALID:726e0512268a54a50e7794a05135c7d2
X-WR-TIMEZONE:America/Chicago
BEGIN:VTIMEZONE
TZID:America/Chicago
BEGIN:STANDARD
TZNAME:CST
DTSTART:20181104T020000
TZOFFSETFROM:-0500
TZOFFSETTO:-0600
RDATE:20191103T020000
END:STANDARD
BEGIN:DAYLIGHT
TZNAME:CDT
DTSTART:20180311T020000
TZOFFSETFROM:-0600
TZOFFSETTO:-0500
RDATE:20190310T020000
RDATE:20200308T020000
END:DAYLIGHT
END:VTIMEZONE
BEGIN:VEVENT
UID:c220abc7-0a4e-4db3-9e9e-e211f87bc419
DTSTAMP:20260423T020709Z
DESCRIPTION:
DTSTART;TZID=America/Chicago:20181117T060000
DTEND;TZID=America/Chicago:20181118T210000
LOCATION:Holiday Inn\, Fargo\, ND
SUMMARY:State Leadership Conference and Banquet
END:VEVENT
END:VCALENDAR
