BEGIN:VCALENDAR
VERSION:2.0
PRODID:-//specialolympicsnd.org//NONSGML kigkonsult.se iCalcreator 2.30.10/
 /
CALSCALE:GREGORIAN
METHOD:PUBLISH
UID:2d304df3-6856-4e65-858c-9ad3324371c5
X-WR-CALDESC:
X-WR-RELCALID:d2795bdff0b764f6682ad742b76db748
X-WR-TIMEZONE:America/Chicago
BEGIN:VTIMEZONE
TZID:America/Chicago
BEGIN:STANDARD
TZNAME:CST
DTSTART:20171105T020000
TZOFFSETFROM:-0500
TZOFFSETTO:-0600
RDATE:20181104T020000
RDATE:20191103T020000
END:STANDARD
BEGIN:DAYLIGHT
TZNAME:CDT
DTSTART:20180311T020000
TZOFFSETFROM:-0600
TZOFFSETTO:-0500
RDATE:20190310T020000
RDATE:20200308T020000
END:DAYLIGHT
END:VTIMEZONE
BEGIN:VEVENT
UID:4113ca82-ae38-4a78-a981-984fd438d103
DTSTAMP:20260423T020511Z
DESCRIPTION:
DTSTART;TZID=America/Chicago:20181103T080000
DTEND;TZID=America/Chicago:20181104T170000
LOCATION:Midway Lanes\, Mandan\, ND
SUMMARY:State Bowling Tournament
END:VEVENT
END:VCALENDAR
