BEGIN:VCALENDAR
VERSION:2.0
PRODID:-//specialolympicsnd.org//NONSGML kigkonsult.se iCalcreator 2.30.10/
 /
CALSCALE:GREGORIAN
METHOD:PUBLISH
UID:e134ff23-097c-4fc5-b96d-e1e1dd882789
X-WR-CALDESC:
X-WR-RELCALID:587ed6b7b3ef0f0b9464861932303e06
X-WR-TIMEZONE:America/Chicago
BEGIN:VTIMEZONE
TZID:America/Chicago
BEGIN:STANDARD
TZNAME:CST
DTSTART:20171105T020000
TZOFFSETFROM:-0500
TZOFFSETTO:-0600
RDATE:20181104T020000
RDATE:20191103T020000
END:STANDARD
BEGIN:DAYLIGHT
TZNAME:CDT
DTSTART:20180311T020000
TZOFFSETFROM:-0600
TZOFFSETTO:-0500
RDATE:20190310T020000
RDATE:20200308T020000
END:DAYLIGHT
END:VTIMEZONE
BEGIN:VEVENT
UID:cecc53ac-f6a7-470a-a55a-b2e351e7e5bd
DTSTAMP:20260423T020541Z
DESCRIPTION:
DTSTART;TZID=America/Chicago:20181023T170000
DTEND;TZID=America/Chicago:20181023T200000
LOCATION:Ann Nicole Hall - Minot State University Campus\, Minot\, ND
SUMMARY:Dancing for Special Stars
END:VEVENT
END:VCALENDAR
