BEGIN:VCALENDAR
VERSION:2.0
PRODID:-//specialolympicsnd.org//NONSGML kigkonsult.se iCalcreator 2.30.10/
 /
CALSCALE:GREGORIAN
METHOD:PUBLISH
UID:939cfc2b-2b44-45a1-9693-a92d34438191
X-WR-CALDESC:
X-WR-RELCALID:3c29d5a3073eaba8f2bf72360c1c6327
X-WR-TIMEZONE:America/Chicago
BEGIN:VTIMEZONE
TZID:America/Chicago
BEGIN:STANDARD
TZNAME:CST
DTSTART:20171105T020000
TZOFFSETFROM:-0500
TZOFFSETTO:-0600
RDATE:20181104T020000
RDATE:20191103T020000
END:STANDARD
BEGIN:DAYLIGHT
TZNAME:CDT
DTSTART:20180311T020000
TZOFFSETFROM:-0600
TZOFFSETTO:-0500
RDATE:20190310T020000
RDATE:20200308T020000
END:DAYLIGHT
END:VTIMEZONE
BEGIN:VEVENT
UID:b9dddfad-a8d9-4b0a-bb14-434a114cdfe5
DTSTAMP:20260423T020806Z
DESCRIPTION:
DTSTART;TZID=America/Chicago:20181021T000000
DTEND;TZID=America/Chicago:20181021T235900
LOCATION:Midway Lanes\, Mandan
SUMMARY:Areas 10/11 Bowling Tournament
END:VEVENT
END:VCALENDAR
