BEGIN:VCALENDAR
VERSION:2.0
PRODID:-//specialolympicsnd.org//NONSGML kigkonsult.se iCalcreator 2.30.10/
 /
CALSCALE:GREGORIAN
METHOD:PUBLISH
UID:5029c257-be0d-4dfb-9740-87b080e667b2
X-WR-CALDESC:
X-WR-RELCALID:a3ef54bcebfb1e4e9f9e34d44c6b6550
X-WR-TIMEZONE:America/Chicago
BEGIN:VTIMEZONE
TZID:America/Chicago
BEGIN:STANDARD
TZNAME:CST
DTSTART:20171105T020000
TZOFFSETFROM:-0500
TZOFFSETTO:-0600
RDATE:20181104T020000
RDATE:20191103T020000
END:STANDARD
BEGIN:DAYLIGHT
TZNAME:CDT
DTSTART:20180311T020000
TZOFFSETFROM:-0600
TZOFFSETTO:-0500
RDATE:20190310T020000
RDATE:20200308T020000
END:DAYLIGHT
END:VTIMEZONE
BEGIN:VEVENT
UID:17fe7be9-9772-4282-9eaf-1e1882ffc7f0
DTSTAMP:20260423T020451Z
DESCRIPTION:
DTSTART;TZID=America/Chicago:20180909T113000
DTEND;TZID=America/Chicago:20180913T220000
LOCATION:Grand Forks
SUMMARY:Restaurant Promotion
END:VEVENT
END:VCALENDAR
