BEGIN:VCALENDAR
VERSION:2.0
PRODID:-//specialolympicsnd.org//NONSGML kigkonsult.se iCalcreator 2.30.10/
 /
CALSCALE:GREGORIAN
METHOD:PUBLISH
UID:944b6fb9-88ee-4307-bef6-0e27fd7e3265
X-WR-CALDESC:
X-WR-RELCALID:82a6d1863a1a3a3ccf72b3711251342f
X-WR-TIMEZONE:America/Chicago
BEGIN:VTIMEZONE
TZID:America/Chicago
BEGIN:STANDARD
TZNAME:CST
DTSTART:20171105T020000
TZOFFSETFROM:-0500
TZOFFSETTO:-0600
RDATE:20181104T020000
RDATE:20191103T020000
END:STANDARD
BEGIN:DAYLIGHT
TZNAME:CDT
DTSTART:20180311T020000
TZOFFSETFROM:-0600
TZOFFSETTO:-0500
RDATE:20190310T020000
RDATE:20200308T020000
END:DAYLIGHT
END:VTIMEZONE
BEGIN:VEVENT
UID:1ffcb8b3-b1fe-4046-bf9c-ddcedc76241e
DTSTAMP:20260423T020607Z
DESCRIPTION:
DTSTART;TZID=America/Chicago:20180908T000000
DTEND;TZID=America/Chicago:20180908T235900
LOCATION:Fargo
SUMMARY:Truck Convoy
END:VEVENT
END:VCALENDAR
