BEGIN:VCALENDAR
VERSION:2.0
PRODID:-//specialolympicsnd.org//NONSGML kigkonsult.se iCalcreator 2.30.10/
 /
CALSCALE:GREGORIAN
METHOD:PUBLISH
UID:833ff2f8-b131-476d-81b4-5efd88f61397
X-WR-CALDESC:
X-WR-RELCALID:0565d0c35d12b92d7267acb68bd32f60
X-WR-TIMEZONE:America/Chicago
BEGIN:VTIMEZONE
TZID:America/Chicago
BEGIN:STANDARD
TZNAME:CST
DTSTART:20171105T020000
TZOFFSETFROM:-0500
TZOFFSETTO:-0600
RDATE:20181104T020000
RDATE:20191103T020000
END:STANDARD
BEGIN:DAYLIGHT
TZNAME:CDT
DTSTART:20180311T020000
TZOFFSETFROM:-0600
TZOFFSETTO:-0500
RDATE:20190310T020000
END:DAYLIGHT
END:VTIMEZONE
BEGIN:VEVENT
UID:4c4b158d-063d-423b-b55f-7783342646d0
DTSTAMP:20260423T020836Z
DESCRIPTION:
DTSTART;TZID=America/Chicago:20180820T000000
DTEND;TZID=America/Chicago:20180820T235900
LOCATION:West Fargo
SUMMARY:Cass Country Area Soccer Bocce Tournament
END:VEVENT
END:VCALENDAR
