BEGIN:VCALENDAR
VERSION:2.0
PRODID:-//specialolympicsnd.org//NONSGML kigkonsult.se iCalcreator 2.30.10/
 /
CALSCALE:GREGORIAN
METHOD:PUBLISH
UID:760c22ca-a891-424d-9963-53e8975d689f
X-WR-CALDESC:
X-WR-RELCALID:03c95fad6b296d3d56c055ef32d05ea9
X-WR-TIMEZONE:America/Chicago
BEGIN:VTIMEZONE
TZID:America/Chicago
BEGIN:STANDARD
TZNAME:CST
DTSTART:20171105T020000
TZOFFSETFROM:-0500
TZOFFSETTO:-0600
RDATE:20181104T020000
RDATE:20191103T020000
END:STANDARD
BEGIN:DAYLIGHT
TZNAME:CDT
DTSTART:20180311T020000
TZOFFSETFROM:-0600
TZOFFSETTO:-0500
RDATE:20190310T020000
END:DAYLIGHT
END:VTIMEZONE
BEGIN:VEVENT
UID:1b517ebd-eba3-49c4-b6dd-43a36037c597
DTSTAMP:20260423T020708Z
DESCRIPTION:
DTSTART;TZID=America/Chicago:20180818T000000
DTEND;TZID=America/Chicago:20180818T235900
LOCATION:Grand Forks and Fargo
SUMMARY:Culver's Car Wash
END:VEVENT
END:VCALENDAR
