BEGIN:VCALENDAR
VERSION:2.0
PRODID:-//specialolympicsnd.org//NONSGML kigkonsult.se iCalcreator 2.30.10/
 /
CALSCALE:GREGORIAN
METHOD:PUBLISH
UID:c40100fd-27ef-4569-b385-bab704381cb4
X-WR-CALDESC:'Sports bring people together\, which is why the Larks and the
  Ramada Inn have teamed up to use the power of baseball to celebrate the S
 pecial Olympics 50th Anniversary. It all starts at with a unified game on 
 the big stage — the baseball field. Cheer on the Larks and Special Olympic
  athletes as they join one another for a symbolic game of friendship and u
 nderstanding.'
X-WR-RELCALID:6d4d0e423392059d86b67869ffeb81f7
X-WR-TIMEZONE:America/Chicago
BEGIN:VTIMEZONE
TZID:America/Chicago
BEGIN:STANDARD
TZNAME:CST
DTSTART:20171105T020000
TZOFFSETFROM:-0500
TZOFFSETTO:-0600
RDATE:20181104T020000
RDATE:20191103T020000
END:STANDARD
BEGIN:DAYLIGHT
TZNAME:CDT
DTSTART:20180311T020000
TZOFFSETFROM:-0600
TZOFFSETTO:-0500
RDATE:20190310T020000
END:DAYLIGHT
END:VTIMEZONE
BEGIN:VEVENT
UID:8950ea53-963e-40a8-b6af-09ea9f431c55
DTSTAMP:20260423T020805Z
DESCRIPTION:'Sports bring people together\, which is why the Larks and the 
 Ramada Inn have teamed up to use the power of baseball to celebrate the Sp
 ecial Olympics 50th Anniversary. It all starts at with a unified game on t
 he big stage — the baseball field. Cheer on the Larks and Special Olympic 
 athletes as they join one another for a symbolic game of friendship and un
 derstanding.'
DTSTART;TZID=America/Chicago:20180716T170000
DTEND;TZID=America/Chicago:20180716T183000
LOCATION:Dakota Community Bank & Trust Field
SUMMARY:Special Olympics Night at the Ballpark
END:VEVENT
END:VCALENDAR
