BEGIN:VCALENDAR
VERSION:2.0
PRODID:-//specialolympicsnd.org//NONSGML kigkonsult.se iCalcreator 2.30.10/
 /
CALSCALE:GREGORIAN
METHOD:PUBLISH
UID:f17a0129-3200-438b-843a-9065e8f1d526
X-WR-CALDESC:
X-WR-RELCALID:28eb2a279a6eb25d1ea15fbdd5ed21fe
X-WR-TIMEZONE:America/Chicago
BEGIN:VTIMEZONE
TZID:America/Chicago
BEGIN:STANDARD
TZNAME:CST
DTSTART:20171105T020000
TZOFFSETFROM:-0500
TZOFFSETTO:-0600
RDATE:20181104T020000
RDATE:20191103T020000
END:STANDARD
BEGIN:DAYLIGHT
TZNAME:CDT
DTSTART:20180311T020000
TZOFFSETFROM:-0600
TZOFFSETTO:-0500
RDATE:20190310T020000
END:DAYLIGHT
END:VTIMEZONE
BEGIN:VEVENT
UID:3f2f03f0-b619-4fdb-bd38-f36b6c808a09
DTSTAMP:20260423T020511Z
DESCRIPTION:
DTSTART;TZID=America/Chicago:20180621T000000
DTEND;TZID=America/Chicago:20180621T235900
LOCATION:Grand Forks Country Club\, Grand Forks\, ND
SUMMARY:Grand Forks Golf Classic
END:VEVENT
END:VCALENDAR
