BEGIN:VCALENDAR
VERSION:2.0
PRODID:-//specialolympicsnd.org//NONSGML kigkonsult.se iCalcreator 2.30.10/
 /
CALSCALE:GREGORIAN
METHOD:PUBLISH
UID:62bdc4f1-45e2-4abd-a437-14f713ed643e
X-WR-CALDESC:
X-WR-RELCALID:ba665fe27f6b26d7d12e4455b0af3d66
X-WR-TIMEZONE:America/Chicago
BEGIN:VTIMEZONE
TZID:America/Chicago
BEGIN:STANDARD
TZNAME:CST
DTSTART:20171105T020000
TZOFFSETFROM:-0500
TZOFFSETTO:-0600
RDATE:20181104T020000
RDATE:20191103T020000
END:STANDARD
BEGIN:DAYLIGHT
TZNAME:CDT
DTSTART:20180311T020000
TZOFFSETFROM:-0600
TZOFFSETTO:-0500
RDATE:20190310T020000
END:DAYLIGHT
END:VTIMEZONE
BEGIN:VEVENT
UID:e872aa3b-f2b2-4803-897d-9a5a486108a9
DTSTAMP:20260423T020400Z
DESCRIPTION:
DTSTART;TZID=America/Chicago:20180607T080000
DTEND;TZID=America/Chicago:20180609T150000
LOCATION:Fargo\, ND
SUMMARY:State Summer Games
END:VEVENT
END:VCALENDAR
