BEGIN:VCALENDAR
VERSION:2.0
PRODID:-//specialolympicsnd.org//NONSGML kigkonsult.se iCalcreator 2.30.10/
 /
CALSCALE:GREGORIAN
METHOD:PUBLISH
UID:c2880779-b16d-4f1d-8f99-9ee506b0430d
X-WR-CALDESC:
X-WR-RELCALID:7a30de2e67a07c2f46f1ae17fb14f383
X-WR-TIMEZONE:America/Chicago
BEGIN:VTIMEZONE
TZID:America/Chicago
BEGIN:STANDARD
TZNAME:CST
DTSTART:20171105T020000
TZOFFSETFROM:-0500
TZOFFSETTO:-0600
RDATE:20181104T020000
RDATE:20191103T020000
END:STANDARD
BEGIN:DAYLIGHT
TZNAME:CDT
DTSTART:20180311T020000
TZOFFSETFROM:-0600
TZOFFSETTO:-0500
RDATE:20190310T020000
END:DAYLIGHT
END:VTIMEZONE
BEGIN:VEVENT
UID:b5026d5e-9434-47ce-afae-12822cefae56
DTSTAMP:20260423T020601Z
DESCRIPTION:
DTSTART;TZID=America/Chicago:20180605T000000
DTEND;TZID=America/Chicago:20180605T235900
LOCATION:Wahpeton\, ND
SUMMARY:Area 7 Track Meet
END:VEVENT
END:VCALENDAR
