BEGIN:VCALENDAR
VERSION:2.0
PRODID:-//specialolympicsnd.org//NONSGML kigkonsult.se iCalcreator 2.30.10/
 /
CALSCALE:GREGORIAN
METHOD:PUBLISH
UID:3ca439cb-c8dc-4350-9ca7-3de2e3802dd1
X-WR-CALDESC:
X-WR-RELCALID:c4c904f8c9dd18fb81df03f407961829
X-WR-TIMEZONE:America/Chicago
BEGIN:VTIMEZONE
TZID:America/Chicago
BEGIN:STANDARD
TZNAME:CST
DTSTART:20171105T020000
TZOFFSETFROM:-0500
TZOFFSETTO:-0600
RDATE:20181104T020000
RDATE:20191103T020000
END:STANDARD
BEGIN:DAYLIGHT
TZNAME:CDT
DTSTART:20180311T020000
TZOFFSETFROM:-0600
TZOFFSETTO:-0500
RDATE:20190310T020000
END:DAYLIGHT
END:VTIMEZONE
BEGIN:VEVENT
UID:856f4480-6ddd-4df4-a608-2a9a2bde6585
DTSTAMP:20260423T020725Z
DESCRIPTION:
DTSTART;TZID=America/Chicago:20180601T000000
DTEND;TZID=America/Chicago:20180601T235900
LOCATION:Valley City\, ND
SUMMARY:Golf Tournament - Valley City
END:VEVENT
END:VCALENDAR
