BEGIN:VCALENDAR
VERSION:2.0
PRODID:-//specialolympicsnd.org//NONSGML kigkonsult.se iCalcreator 2.30.10/
 /
CALSCALE:GREGORIAN
METHOD:PUBLISH
UID:40e3f185-fc8a-4130-aaca-895d79170b14
X-WR-CALDESC:
X-WR-RELCALID:e7baaf2bd676969ee52ff82eed2f6840
X-WR-TIMEZONE:America/Chicago
BEGIN:VTIMEZONE
TZID:America/Chicago
BEGIN:STANDARD
TZNAME:CST
DTSTART:20171105T020000
TZOFFSETFROM:-0500
TZOFFSETTO:-0600
RDATE:20181104T020000
RDATE:20191103T020000
END:STANDARD
BEGIN:DAYLIGHT
TZNAME:CDT
DTSTART:20180311T020000
TZOFFSETFROM:-0600
TZOFFSETTO:-0500
RDATE:20190310T020000
END:DAYLIGHT
END:VTIMEZONE
BEGIN:VEVENT
UID:9fdc4d37-f11d-4a80-9da5-3d6e101c2948
DTSTAMP:20260423T020652Z
DESCRIPTION:
DTSTART;TZID=America/Chicago:20180531T000000
DTEND;TZID=America/Chicago:20180531T235900
LOCATION:Wahpeton\, ND
SUMMARY:Area 7 Bocce Tournament
END:VEVENT
END:VCALENDAR
