BEGIN:VCALENDAR
VERSION:2.0
PRODID:-//specialolympicsnd.org//NONSGML kigkonsult.se iCalcreator 2.30.10/
 /
CALSCALE:GREGORIAN
METHOD:PUBLISH
UID:e9f56655-2de4-49bc-af8c-35a051b15f73
X-WR-CALDESC:Special Olympics North Dakota will be running a car wash at Cu
 lver's (3451 32nd Ave S\, Grand Forks\, ND 58201). This fundraiser is free
 -will donations and is being held by the Area IV program.
X-WR-RELCALID:9a8d6d09612aba5a2ea72f085f1b26a2
X-WR-TIMEZONE:America/Chicago
BEGIN:VTIMEZONE
TZID:America/Chicago
BEGIN:STANDARD
TZNAME:CST
DTSTART:20171105T020000
TZOFFSETFROM:-0500
TZOFFSETTO:-0600
RDATE:20181104T020000
RDATE:20191103T020000
END:STANDARD
BEGIN:DAYLIGHT
TZNAME:CDT
DTSTART:20180311T020000
TZOFFSETFROM:-0600
TZOFFSETTO:-0500
RDATE:20190310T020000
END:DAYLIGHT
END:VTIMEZONE
BEGIN:VEVENT
UID:b1e87bae-2f07-4a90-892f-90df13c52899
DTSTAMP:20260423T020400Z
DESCRIPTION:Special Olympics North Dakota will be running a car wash at Cul
 ver's (3451 32nd Ave S\, Grand Forks\, ND 58201). This fundraiser is free-
 will donations and is being held by the Area IV program.
DTSTART;TZID=America/Chicago:20180526T000000
DTEND;TZID=America/Chicago:20180526T235900
LOCATION:Culver's- Grand Forks
SUMMARY:Car Wash
END:VEVENT
END:VCALENDAR
