BEGIN:VCALENDAR
VERSION:2.0
PRODID:-//specialolympicsnd.org//NONSGML kigkonsult.se iCalcreator 2.30.10/
 /
CALSCALE:GREGORIAN
METHOD:PUBLISH
UID:c195557c-6318-4a3f-8c9b-9c4484f230e5
X-WR-CALDESC:
X-WR-RELCALID:f31edbb0e86400d8ec55eb121abb11c3
X-WR-TIMEZONE:America/Chicago
BEGIN:VTIMEZONE
TZID:America/Chicago
BEGIN:STANDARD
TZNAME:CST
DTSTART:20171105T020000
TZOFFSETFROM:-0500
TZOFFSETTO:-0600
RDATE:20181104T020000
RDATE:20191103T020000
END:STANDARD
BEGIN:DAYLIGHT
TZNAME:CDT
DTSTART:20180311T020000
TZOFFSETFROM:-0600
TZOFFSETTO:-0500
RDATE:20190310T020000
END:DAYLIGHT
END:VTIMEZONE
BEGIN:VEVENT
UID:9dd0b9b6-8f04-4c8c-9acf-105f4bd21b7f
DTSTAMP:20260423T020607Z
DESCRIPTION:
DTSTART;TZID=America/Chicago:20180520T000000
DTEND;TZID=America/Chicago:20180520T235900
LOCATION:Biesoit Activity Center\, Dickinson
SUMMARY:District IV Spring Games - Track Events
END:VEVENT
END:VCALENDAR
