BEGIN:VCALENDAR
VERSION:2.0
PRODID:-//specialolympicsnd.org//NONSGML kigkonsult.se iCalcreator 2.30.10/
 /
CALSCALE:GREGORIAN
METHOD:PUBLISH
UID:a9fddc6d-bf1b-4227-be9a-b690e5f0f35c
X-WR-CALDESC:
X-WR-RELCALID:aa0c470d1e6fa98c9566bcfd206e8070
X-WR-TIMEZONE:America/Chicago
BEGIN:VTIMEZONE
TZID:America/Chicago
BEGIN:STANDARD
TZNAME:CST
DTSTART:20171105T020000
TZOFFSETFROM:-0500
TZOFFSETTO:-0600
RDATE:20181104T020000
RDATE:20191103T020000
END:STANDARD
BEGIN:DAYLIGHT
TZNAME:CDT
DTSTART:20180311T020000
TZOFFSETFROM:-0600
TZOFFSETTO:-0500
RDATE:20190310T020000
END:DAYLIGHT
END:VTIMEZONE
BEGIN:VEVENT
UID:64e71eec-70f9-4d02-b7fc-a056a80b82b6
DTSTAMP:20260423T020430Z
DESCRIPTION:
DTSTART;TZID=America/Chicago:20180506T000000
DTEND;TZID=America/Chicago:20180506T235900
LOCATION:Valley City State University\, Valley City
SUMMARY:District III Spring Games
END:VEVENT
END:VCALENDAR
