BEGIN:VCALENDAR
VERSION:2.0
PRODID:-//specialolympicsnd.org//NONSGML kigkonsult.se iCalcreator 2.30.10/
 /
CALSCALE:GREGORIAN
METHOD:PUBLISH
UID:0f425a4c-54df-4491-9f4b-dfbb148c3a85
X-WR-CALDESC:
X-WR-RELCALID:84d752f7255ff70f9aea7cbf5e2d9502
X-WR-TIMEZONE:America/Chicago
BEGIN:VTIMEZONE
TZID:America/Chicago
BEGIN:STANDARD
TZNAME:CST
DTSTART:20171105T020000
TZOFFSETFROM:-0500
TZOFFSETTO:-0600
RDATE:20181104T020000
END:STANDARD
BEGIN:DAYLIGHT
TZNAME:CDT
DTSTART:20180311T020000
TZOFFSETFROM:-0600
TZOFFSETTO:-0500
RDATE:20190310T020000
END:DAYLIGHT
END:VTIMEZONE
BEGIN:VEVENT
UID:69416d78-6b29-40f9-b7eb-13076c9e9a05
DTSTAMP:20260423T020431Z
DESCRIPTION:
DTSTART;TZID=America/Chicago:20180424T000000
DTEND;TZID=America/Chicago:20180424T235900
LOCATION:EGF High School\, East Grand Forks
SUMMARY:District II Spring Games
END:VEVENT
END:VCALENDAR
