BEGIN:VCALENDAR
VERSION:2.0
PRODID:-//specialolympicsnd.org//NONSGML kigkonsult.se iCalcreator 2.30.10/
 /
CALSCALE:GREGORIAN
METHOD:PUBLISH
UID:58716c2a-268b-4375-a6bc-57a64c173733
X-WR-CALDESC:
X-WR-RELCALID:f27a7eaadbe8f87a7b6f57e41b358aed
X-WR-TIMEZONE:America/Chicago
BEGIN:VTIMEZONE
TZID:America/Chicago
BEGIN:STANDARD
TZNAME:CST
DTSTART:20171105T020000
TZOFFSETFROM:-0500
TZOFFSETTO:-0600
RDATE:20181104T020000
END:STANDARD
BEGIN:DAYLIGHT
TZNAME:CDT
DTSTART:20180311T020000
TZOFFSETFROM:-0600
TZOFFSETTO:-0500
RDATE:20190310T020000
END:DAYLIGHT
END:VTIMEZONE
BEGIN:VEVENT
UID:e8d6cfaf-4980-4474-b54d-ce0484a4f6dd
DTSTAMP:20260423T020401Z
DESCRIPTION:
DTSTART;TZID=America/Chicago:20180414T000000
DTEND;TZID=America/Chicago:20180414T235900
LOCATION:Hope Lutheran Church-North Campus
SUMMARY:Pancake Breakfast
END:VEVENT
END:VCALENDAR
