BEGIN:VCALENDAR
VERSION:2.0
PRODID:-//specialolympicsnd.org//NONSGML kigkonsult.se iCalcreator 2.30.10/
 /
CALSCALE:GREGORIAN
METHOD:PUBLISH
UID:b14aa2c5-8c72-4bb6-afb9-6de16543fa1f
X-WR-CALDESC:Join us for the 9th annual Dancing for Special Stars event in 
 Grand Forks! “Dancing for Special Stars” is a dance contest patterned afte
 r the hit television program “Dancing with the Stars.” This event is a fun
 draiser for Special Olympics North Dakota (SOND) and will feature area cel
 ebrities paired with local dance instructors.  Each couple will perform a 
 dance of their choice.\n\nTickets are $30 each and can be purchased by cal
 ling Special Olympics North Dakota at (701) 746-0331.\n\n<u>Evening Schedu
 le</u>:\nReception (Gallery Area) - 6:15 pm\nShow Time - 7:00 pm\nMeet and
  Greet with Dancers (following the show)\n
X-WR-RELCALID:2c7c16d125c8de4857236570d016525a
X-WR-TIMEZONE:America/Chicago
BEGIN:VTIMEZONE
TZID:America/Chicago
BEGIN:STANDARD
TZNAME:CST
DTSTART:20171105T020000
TZOFFSETFROM:-0500
TZOFFSETTO:-0600
RDATE:20181104T020000
END:STANDARD
BEGIN:DAYLIGHT
TZNAME:CDT
DTSTART:20180311T020000
TZOFFSETFROM:-0600
TZOFFSETTO:-0500
RDATE:20190310T020000
END:DAYLIGHT
END:VTIMEZONE
BEGIN:VEVENT
UID:8b7d7474-853b-450b-bc74-0c7e0904ed44
DTSTAMP:20260423T020542Z
DESCRIPTION:Join us for the 9th annual Dancing for Special Stars event in G
 rand Forks! “Dancing for Special Stars” is a dance contest patterned after
  the hit television program “Dancing with the Stars.” This event is a fund
 raiser for Special Olympics North Dakota (SOND) and will feature area cele
 brities paired with local dance instructors.  Each couple will perform a d
 ance of their choice.\n\nTickets are $30 each and can be purchased by call
 ing Special Olympics North Dakota at (701) 746-0331.\n\n<u>Evening Schedul
 e</u>:\nReception (Gallery Area) - 6:15 pm\nShow Time - 7:00 pm\nMeet and 
 Greet with Dancers (following the show)\n
DTSTART;TZID=America/Chicago:20180410T190000
DTEND;TZID=America/Chicago:20180410T210000
LOCATION:Empire Arts Center\, Grand Forks\, ND
SUMMARY:Dancing for Special Stars
END:VEVENT
END:VCALENDAR
