BEGIN:VCALENDAR
VERSION:2.0
PRODID:-//specialolympicsnd.org//NONSGML kigkonsult.se iCalcreator 2.30.10/
 /
CALSCALE:GREGORIAN
METHOD:PUBLISH
UID:5d3330de-0801-4175-aa18-2d1d0bbe054b
X-WR-CALDESC:The Polar Plunge is an annual fundraiser organized by North Da
 kota Law Enforcement as part of the year-round Law Enforcement Torch Run t
 o raise awareness and fund to benefit Special Olympics North Dakota (SOND)
 .  Polar Plunges offer a unique opportunity for individuals\, organization
 s\, and businesses to support Special Olympics North Dakota athletes by ra
 ising money and taking the plunge into frigid North Dakota waters.  \n\nFo
 r more information\, visit our Firstgiving page with the link below.
X-WR-RELCALID:d1bd523248c3b131dad2f01f5303ec4b
X-WR-TIMEZONE:America/Chicago
BEGIN:VTIMEZONE
TZID:America/Chicago
BEGIN:STANDARD
TZNAME:CST
DTSTART:20171105T020000
TZOFFSETFROM:-0500
TZOFFSETTO:-0600
RDATE:20181104T020000
END:STANDARD
BEGIN:DAYLIGHT
TZNAME:CDT
DTSTART:20180311T020000
TZOFFSETFROM:-0600
TZOFFSETTO:-0500
RDATE:20190310T020000
END:DAYLIGHT
END:VTIMEZONE
BEGIN:VEVENT
UID:e4cd4925-e5b2-4084-bade-6061ecc2a6bc
DTSTAMP:20260423T020601Z
DESCRIPTION:The Polar Plunge is an annual fundraiser organized by North Dak
 ota Law Enforcement as part of the year-round Law Enforcement Torch Run to
  raise awareness and fund to benefit Special Olympics North Dakota (SOND).
   Polar Plunges offer a unique opportunity for individuals\, organizations
 \, and businesses to support Special Olympics North Dakota athletes by rai
 sing money and taking the plunge into frigid North Dakota waters.  \n\nFor
  more information\, visit our Firstgiving page with the link below.
DTSTART;TZID=America/Chicago:20180324T000000
DTEND;TZID=America/Chicago:20180324T235900
LOCATION:Dickinson\, ND - Parking lot between Choice Financial and Cashwise
  Foods
SUMMARY:Polar Plunge - Dickinson
END:VEVENT
END:VCALENDAR
