BEGIN:VCALENDAR
VERSION:2.0
PRODID:-//specialolympicsnd.org//NONSGML kigkonsult.se iCalcreator 2.30.10/
 /
CALSCALE:GREGORIAN
METHOD:PUBLISH
UID:2f233ff9-9a98-4b7c-b822-708fe5c996c3
X-WR-CALDESC:The Polar Plunge is an annual fundraiser organized by North Da
 kota Law Enforcement as part of the year-round Law Enforcement Torch Run t
 o raise awareness and fund to benefit Special Olympics North Dakota (SOND)
 .  Polar Plunges offer a unique opportunity for individuals\, organization
 s\, and businesses to support Special Olympics North Dakota athletes by ra
 ising money and taking the plunge into frigid North Dakota waters.  \n\nFo
 r more information\, visit our Firstgiving page with the link below.
X-WR-RELCALID:4fb922acb3ce14ff92bff26ed3387581
X-WR-TIMEZONE:America/Chicago
BEGIN:VTIMEZONE
TZID:America/Chicago
BEGIN:STANDARD
TZNAME:CST
DTSTART:20171105T020000
TZOFFSETFROM:-0500
TZOFFSETTO:-0600
RDATE:20181104T020000
END:STANDARD
BEGIN:DAYLIGHT
TZNAME:CDT
DTSTART:20180311T020000
TZOFFSETFROM:-0600
TZOFFSETTO:-0500
RDATE:20190310T020000
END:DAYLIGHT
END:VTIMEZONE
BEGIN:VEVENT
UID:25c67da3-9162-4127-bc0e-05b3b2257eed
DTSTAMP:20260423T020602Z
DESCRIPTION:The Polar Plunge is an annual fundraiser organized by North Dak
 ota Law Enforcement as part of the year-round Law Enforcement Torch Run to
  raise awareness and fund to benefit Special Olympics North Dakota (SOND).
   Polar Plunges offer a unique opportunity for individuals\, organizations
 \, and businesses to support Special Olympics North Dakota athletes by rai
 sing money and taking the plunge into frigid North Dakota waters.  \n\nFor
  more information\, visit our Firstgiving page with the link below.
DTSTART;TZID=America/Chicago:20180319T000000
DTEND;TZID=America/Chicago:20180319T235900
LOCATION:Sleep Inn Hotel\, Minot\, ND
SUMMARY:Polar Plunge - Minot
END:VEVENT
END:VCALENDAR
